Package: ARRmNormalization Version: 1.42.0 Command: chmod a+r ARRmNormalization -R && F:\biocbuild\bbs-3.18-bioc\R\bin\R.exe CMD build --keep-empty-dirs --no-resave-data ARRmNormalization StartedAt: 2024-04-15 16:58:46 -0400 (Mon, 15 Apr 2024) EndedAt: 2024-04-15 16:59:21 -0400 (Mon, 15 Apr 2024) EllapsedTime: 34.1 seconds RetCode: 0 Status: OK PackageFile: ARRmNormalization_1.42.0.tar.gz PackageFileSize: 1007 KiB