Package: ARRmNormalization Version: 1.42.0 Command: F:\biocbuild\bbs-3.18-bioc\R\bin\R.exe CMD INSTALL ARRmNormalization StartedAt: 2024-04-15 15:38:18 -0400 (Mon, 15 Apr 2024) EndedAt: 2024-04-15 15:38:33 -0400 (Mon, 15 Apr 2024) EllapsedTime: 15.0 seconds RetCode: 0 Status: OK