Package: ASAFE Version: 1.28.0 Command: /Library/Frameworks/R.framework/Resources/bin/R CMD INSTALL ASAFE StartedAt: 2024-03-03 15:03:29 -0500 (Sun, 03 Mar 2024) EndedAt: 2024-03-03 15:03:44 -0500 (Sun, 03 Mar 2024) EllapsedTime: 14.6 seconds RetCode: 0 Status: OK