Package: ASAFE Version: 1.28.0 Command: rm -rf ASAFE.buildbin-libdir && mkdir ASAFE.buildbin-libdir && /Users/biocbuild/BBS/utils/build-universal.sh ASAFE_1.28.0.tar.gz /Library/Frameworks/R.framework/Resources/bin/R ASAFE.buildbin-libdir StartedAt: 2024-04-16 10:59:42 -0400 (Tue, 16 Apr 2024) EndedAt: 2024-04-16 11:00:01 -0400 (Tue, 16 Apr 2024) EllapsedTime: 19.0 seconds RetCode: 0 Status: OK PackageFile: ASAFE_1.28.0.tgz PackageFileSize: 618 KiB