Package: ASAFE Version: 1.28.0 Command: /home/biocbuild/bbs-3.18-bioc/R/bin/R CMD build --keep-empty-dirs --no-resave-data ASAFE StartedAt: 2024-04-15 16:00:18 -0400 (Mon, 15 Apr 2024) EndedAt: 2024-04-15 16:00:24 -0400 (Mon, 15 Apr 2024) EllapsedTime: 5.9 seconds RetCode: 0 Status: OK PackageFile: ASAFE_1.28.0.tar.gz PackageFileSize: 426.5 KiB