Package: ASICS
Version: 2.18.1
Command: F:\biocbuild\bbs-3.18-bioc\R\bin\R.exe CMD check --no-multiarch --install=check:ASICS.install-out.txt --library=F:\biocbuild\bbs-3.18-bioc\R\library --no-vignettes --timings ASICS_2.18.1.tar.gz
StartedAt: 2024-04-15 22:21:04 -0400 (Mon, 15 Apr 2024)
EndedAt: 2024-04-15 22:34:58 -0400 (Mon, 15 Apr 2024)
EllapsedTime: 834.2 seconds
RetCode: 0
Status: OK
CheckDir: ASICS.Rcheck
Warnings: 0