git_url: https://git.bioconductor.org/packages/ASpediaFI git_branch: devel git_last_commit: 1168c9e git_last_commit_date: 2023-01-20 10:45:20 -0400 (Fri, 20 Jan 2023) Package: ASpediaFI Version: 1.13.1 Maintainer: Doyeong Yu MaintainerEmail: parklab.bi at gmail.com