Package: ASpediaFI Version: 1.13.1 Command: /home/biocbuild/bbs-3.18-bioc/R/bin/R CMD INSTALL ASpediaFI StartedAt: 2023-04-20 04:07:52 -0400 (Thu, 20 Apr 2023) EndedAt: 2023-04-20 04:07:53 -0400 (Thu, 20 Apr 2023) EllapsedTime: 0.7 seconds RetCode: 1 Status: ERROR