Package: ATACseqQC Version: 1.26.0 Command: /home/biocbuild/bbs-3.18-bioc/R/bin/R CMD build --keep-empty-dirs --no-resave-data ATACseqQC StartedAt: 2024-04-15 16:00:46 -0400 (Mon, 15 Apr 2024) EndedAt: 2024-04-15 16:03:31 -0400 (Mon, 15 Apr 2024) EllapsedTime: 164.6 seconds RetCode: 0 Status: OK PackageFile: ATACseqQC_1.26.0.tar.gz PackageFileSize: 14.2 MiB