Package: ATACseqQC Version: 1.26.0 Command: F:\biocbuild\bbs-3.18-bioc\R\bin\R.exe CMD INSTALL ATACseqQC StartedAt: 2024-04-15 16:47:25 -0400 (Mon, 15 Apr 2024) EndedAt: 2024-04-15 16:48:37 -0400 (Mon, 15 Apr 2024) EllapsedTime: 72.2 seconds RetCode: 0 Status: OK