Package: AgiMicroRna Version: 2.52.0 Command: rm -rf AgiMicroRna.buildbin-libdir && mkdir AgiMicroRna.buildbin-libdir && /Users/biocbuild/BBS/utils/build-universal.sh AgiMicroRna_2.52.0.tar.gz /Library/Frameworks/R.framework/Resources/bin/R AgiMicroRna.buildbin-libdir StartedAt: 2024-03-04 00:28:08 -0500 (Mon, 04 Mar 2024) EndedAt: 2024-03-04 00:29:44 -0500 (Mon, 04 Mar 2024) EllapsedTime: 95.5 seconds RetCode: 0 Status: OK PackageFile: AgiMicroRna_2.52.0.tgz PackageFileSize: 3.525 MiB