Package: AgiMicroRna Version: 2.52.0 Command: F:\biocbuild\bbs-3.18-bioc\R\bin\R.exe CMD INSTALL AgiMicroRna StartedAt: 2024-04-15 16:33:03 -0400 (Mon, 15 Apr 2024) EndedAt: 2024-04-15 16:34:28 -0400 (Mon, 15 Apr 2024) EllapsedTime: 84.5 seconds RetCode: 0 Status: OK