Package: AnnotationForge Version: 1.44.0 Command: /home/biocbuild/R/R-4.3.1/bin/R CMD check --install=check:AnnotationForge.install-out.txt --library=/home/biocbuild/R/R-4.3.1/site-library --no-vignettes --timings AnnotationForge_1.44.0.tar.gz StartedAt: 2023-11-02 08:19:28 -0000 (Thu, 02 Nov 2023) EndedAt: 2023-11-02 08:21:49 -0000 (Thu, 02 Nov 2023) EllapsedTime: 140.4 seconds RetCode: 0 Status: OK CheckDir: AnnotationForge.Rcheck Warnings: 0