Package: AnnotationForge Version: 1.44.0 Command: /home/biocbuild/R/R-4.3.1/bin/R CMD INSTALL AnnotationForge StartedAt: 2023-11-01 20:21:04 -0000 (Wed, 01 Nov 2023) EndedAt: 2023-11-01 20:21:28 -0000 (Wed, 01 Nov 2023) EllapsedTime: 23.7 seconds RetCode: 0 Status: OK