Package: AnnotationForge Version: 1.44.0 Command: /Library/Frameworks/R.framework/Resources/bin/R CMD build --keep-empty-dirs --no-resave-data AnnotationForge StartedAt: 2024-03-03 15:52:31 -0500 (Sun, 03 Mar 2024) EndedAt: 2024-03-03 15:56:13 -0500 (Sun, 03 Mar 2024) EllapsedTime: 222.5 seconds RetCode: 0 Status: OK PackageFile: AnnotationForge_1.44.0.tar.gz PackageFileSize: 3.837 MiB