Package: AnnotationForge Version: 1.44.0 Command: F:\biocbuild\bbs-3.18-bioc\R\bin\R.exe CMD INSTALL AnnotationForge StartedAt: 2024-04-15 15:56:44 -0400 (Mon, 15 Apr 2024) EndedAt: 2024-04-15 15:57:23 -0400 (Mon, 15 Apr 2024) EllapsedTime: 39.5 seconds RetCode: 0 Status: OK