git_url: https://git.bioconductor.org/packages/ArrayExpressHTS git_branch: devel git_last_commit: c9590d2 git_last_commit_date: 2022-12-01 14:06:42 -0400 (Thu, 01 Dec 2022) Package: ArrayExpressHTS Version: 1.49.1 Maintainer: Angela Goncalves , Andrew Tikhonov MaintainerEmail: andrew at ebi.ac.uk