Package: AssessORF Version: 1.20.0 Command: /home/biocbuild/R/R-4.3.1/bin/R CMD build --keep-empty-dirs --no-resave-data AssessORF StartedAt: 2023-11-01 22:19:57 -0000 (Wed, 01 Nov 2023) EndedAt: 2023-11-01 22:20:55 -0000 (Wed, 01 Nov 2023) EllapsedTime: 58.1 seconds RetCode: 0 Status: OK PackageFile: AssessORF_1.20.0.tar.gz PackageFileSize: 4.694 MiB