Package: AssessORF Version: 1.20.0 Command: /Library/Frameworks/R.framework/Resources/bin/R CMD build --keep-empty-dirs --no-resave-data AssessORF StartedAt: 2024-03-03 15:53:58 -0500 (Sun, 03 Mar 2024) EndedAt: 2024-03-03 15:54:51 -0500 (Sun, 03 Mar 2024) EllapsedTime: 53.1 seconds RetCode: 0 Status: OK PackageFile: AssessORF_1.20.0.tar.gz PackageFileSize: 4.703 MiB