Package: AssessORF Version: 1.20.0 Command: /Library/Frameworks/R.framework/Resources/bin/R CMD check --install=check:AssessORF.install-out.txt --library=/Library/Frameworks/R.framework/Resources/library --no-vignettes --timings AssessORF_1.20.0.tar.gz StartedAt: 2024-04-15 23:22:20 -0400 (Mon, 15 Apr 2024) EndedAt: 2024-04-15 23:26:28 -0400 (Mon, 15 Apr 2024) EllapsedTime: 248.4 seconds RetCode: 0 Status: OK CheckDir: AssessORF.Rcheck Warnings: 0