Package: AssessORF Version: 1.20.0 Command: /home/biocbuild/bbs-3.18-bioc/R/bin/R CMD check --install=check:AssessORF.install-out.txt --library=/home/biocbuild/bbs-3.18-bioc/R/site-library --timings AssessORF_1.20.0.tar.gz StartedAt: 2024-04-15 20:07:43 -0400 (Mon, 15 Apr 2024) EndedAt: 2024-04-15 20:10:39 -0400 (Mon, 15 Apr 2024) EllapsedTime: 176.6 seconds RetCode: 0 Status: OK CheckDir: AssessORF.Rcheck Warnings: 0