Package: BASiCS Version: 2.14.0 Maintainer: Catalina Vallejos MaintainerEmail: catalina.vallejos at igmm.ed.ac.uk git_url: https://git.bioconductor.org/packages/BASiCS git_branch: RELEASE_3_18 git_last_commit: 7b60c29 git_last_commit_date: 2024-03-11 13:42:52 -0400 (Mon, 11 Mar 2024)