Package: BDMMAcorrect Version: 1.20.0 Command: /home/biocbuild/R/R-4.3.1/bin/R CMD build --keep-empty-dirs --no-resave-data BDMMAcorrect StartedAt: 2023-11-01 22:30:05 -0000 (Wed, 01 Nov 2023) EndedAt: 2023-11-01 22:35:25 -0000 (Wed, 01 Nov 2023) EllapsedTime: 319.4 seconds RetCode: 0 Status: OK PackageFile: BDMMAcorrect_1.20.0.tar.gz PackageFileSize: 375.3 KiB