Package: BGmix Version: 1.62.0 Maintainer: Alex Lewin MaintainerEmail: a.m.lewin at imperial.ac.uk git_url: https://git.bioconductor.org/packages/BGmix git_branch: RELEASE_3_18 git_last_commit: f73b5f7 git_last_commit_date: 2023-10-24 09:39:13 -0400 (Tue, 24 Oct 2023)