Package: BHC Version: 1.54.0 Command: chmod a+r BHC -R && F:\biocbuild\bbs-3.18-bioc\R\bin\R.exe CMD build --keep-empty-dirs --no-resave-data BHC StartedAt: 2024-04-15 17:08:44 -0400 (Mon, 15 Apr 2024) EndedAt: 2024-04-15 17:09:29 -0400 (Mon, 15 Apr 2024) EllapsedTime: 45.0 seconds RetCode: 0 Status: OK PackageFile: BHC_1.54.0.tar.gz PackageFileSize: 137.9 KiB