Package: BRGenomics Version: 1.14.1 Command: /home/biocbuild/bbs-3.18-bioc/R/bin/R CMD INSTALL BRGenomics StartedAt: 2024-04-15 15:18:45 -0400 (Mon, 15 Apr 2024) EndedAt: 2024-04-15 15:19:18 -0400 (Mon, 15 Apr 2024) EllapsedTime: 32.8 seconds RetCode: 0 Status: OK