Package: BRGenomics Version: 1.14.1 Command: F:\biocbuild\bbs-3.18-bioc\R\bin\R.exe CMD check --no-multiarch --install=check:BRGenomics.install-out.txt --library=F:\biocbuild\bbs-3.18-bioc\R\library --no-vignettes --timings BRGenomics_1.14.1.tar.gz StartedAt: 2024-04-15 22:53:14 -0400 (Mon, 15 Apr 2024) EndedAt: 2024-04-15 23:00:10 -0400 (Mon, 15 Apr 2024) EllapsedTime: 416.9 seconds RetCode: 0 Status: OK CheckDir: BRGenomics.Rcheck Warnings: 0