Package: BUS Version: 1.58.0 Command: rm -rf BUS.buildbin-libdir && mkdir BUS.buildbin-libdir && F:\biocbuild\bbs-3.18-bioc\R\bin\R.exe CMD INSTALL --build --library=BUS.buildbin-libdir BUS_1.58.0.tar.gz StartedAt: 2024-04-16 06:44:41 -0400 (Tue, 16 Apr 2024) EndedAt: 2024-04-16 06:44:52 -0400 (Tue, 16 Apr 2024) EllapsedTime: 10.5 seconds RetCode: 0 Status: OK PackageFile: BUS_1.58.0.zip PackageFileSize: 2.098 MiB