Package: BUS Version: 1.58.0 Command: chmod a+r BUS -R && F:\biocbuild\bbs-3.18-bioc\R\bin\R.exe CMD build --keep-empty-dirs --no-resave-data BUS StartedAt: 2024-04-15 17:23:28 -0400 (Mon, 15 Apr 2024) EndedAt: 2024-04-15 17:23:42 -0400 (Mon, 15 Apr 2024) EllapsedTime: 14.2 seconds RetCode: 0 Status: OK PackageFile: BUS_1.58.0.tar.gz PackageFileSize: 2.72 MiB