Package: BUSpaRse Version: 1.16.1 Command: /home/biocbuild/bbs-3.18-bioc/R/bin/R CMD build --keep-empty-dirs --no-resave-data BUSpaRse StartedAt: 2024-04-15 16:17:25 -0400 (Mon, 15 Apr 2024) EndedAt: 2024-04-15 16:20:33 -0400 (Mon, 15 Apr 2024) EllapsedTime: 187.7 seconds RetCode: 0 Status: OK PackageFile: BUSpaRse_1.16.1.tar.gz PackageFileSize: 575.5 KiB