Package: BUSpaRse Version: 1.16.1 Command: /home/biocbuild/bbs-3.18-bioc/R/bin/R CMD check --install=check:BUSpaRse.install-out.txt --library=/home/biocbuild/bbs-3.18-bioc/R/site-library --timings BUSpaRse_1.16.1.tar.gz StartedAt: 2024-04-15 20:48:55 -0400 (Mon, 15 Apr 2024) EndedAt: 2024-04-15 21:02:17 -0400 (Mon, 15 Apr 2024) EllapsedTime: 801.3 seconds RetCode: 0 Status: OK CheckDir: BUSpaRse.Rcheck Warnings: 0