Package: BUSpaRse Version: 1.16.1 Command: /home/biocbuild/bbs-3.18-bioc/R/bin/R CMD INSTALL BUSpaRse StartedAt: 2024-04-15 15:27:57 -0400 (Mon, 15 Apr 2024) EndedAt: 2024-04-15 15:28:58 -0400 (Mon, 15 Apr 2024) EllapsedTime: 61.4 seconds RetCode: 0 Status: OK