Package: BUSpaRse Version: 1.16.1 Command: rm -rf BUSpaRse.buildbin-libdir && mkdir BUSpaRse.buildbin-libdir && F:\biocbuild\bbs-3.18-bioc\R\bin\R.exe CMD INSTALL --build --library=BUSpaRse.buildbin-libdir BUSpaRse_1.16.1.tar.gz StartedAt: 2024-04-16 06:44:45 -0400 (Tue, 16 Apr 2024) EndedAt: 2024-04-16 06:46:09 -0400 (Tue, 16 Apr 2024) EllapsedTime: 84.1 seconds RetCode: 0 Status: OK PackageFile: BUSpaRse_1.16.1.zip PackageFileSize: 1.115 MiB