Package: BUSpaRse Version: 1.16.1 Command: chmod a+r BUSpaRse -R && F:\biocbuild\bbs-3.18-bioc\R\bin\R.exe CMD build --keep-empty-dirs --no-resave-data BUSpaRse StartedAt: 2024-04-15 17:23:41 -0400 (Mon, 15 Apr 2024) EndedAt: 2024-04-15 17:28:03 -0400 (Mon, 15 Apr 2024) EllapsedTime: 262.2 seconds RetCode: 0 Status: OK PackageFile: BUSpaRse_1.16.1.tar.gz PackageFileSize: 556.2 KiB