Package: BaalChIP Version: 1.28.0 Command: /home/biocbuild/R/R-4.3.1/bin/R CMD build --keep-empty-dirs --no-resave-data BaalChIP StartedAt: 2023-11-01 22:23:49 -0000 (Wed, 01 Nov 2023) EndedAt: 2023-11-01 22:26:44 -0000 (Wed, 01 Nov 2023) EllapsedTime: 175.2 seconds RetCode: 0 Status: OK PackageFile: BaalChIP_1.28.0.tar.gz PackageFileSize: 45.21 MiB