Package: BaalChIP Version: 1.28.0 Command: /home/biocbuild/R/R-4.3.1/bin/R CMD check --install=check:BaalChIP.install-out.txt --library=/home/biocbuild/R/R-4.3.1/site-library --no-vignettes --timings BaalChIP_1.28.0.tar.gz StartedAt: 2023-11-02 08:27:31 -0000 (Thu, 02 Nov 2023) EndedAt: 2023-11-02 08:34:14 -0000 (Thu, 02 Nov 2023) EllapsedTime: 403.9 seconds RetCode: 1 Status: ERROR CheckDir: BaalChIP.Rcheck Warnings: NA