Package: BaalChIP Version: 1.28.0 Command: rm -rf BaalChIP.buildbin-libdir && mkdir BaalChIP.buildbin-libdir && /Users/biocbuild/BBS/utils/build-universal.sh BaalChIP_1.28.0.tar.gz /Library/Frameworks/R.framework/Resources/bin/R BaalChIP.buildbin-libdir StartedAt: 2024-03-04 00:29:28 -0500 (Mon, 04 Mar 2024) EndedAt: 2024-03-04 00:31:33 -0500 (Mon, 04 Mar 2024) EllapsedTime: 124.9 seconds RetCode: 0 Status: OK PackageFile: BaalChIP_1.28.0.tgz PackageFileSize: 107.1 MiB