Package: BaalChIP Version: 1.28.0 Command: chmod a+r BaalChIP -R && F:\biocbuild\bbs-3.18-bioc\R\bin\R.exe CMD build --keep-empty-dirs --no-resave-data BaalChIP StartedAt: 2024-04-15 17:02:27 -0400 (Mon, 15 Apr 2024) EndedAt: 2024-04-15 17:04:59 -0400 (Mon, 15 Apr 2024) EllapsedTime: 152.1 seconds RetCode: 0 Status: OK PackageFile: BaalChIP_1.28.0.tar.gz PackageFileSize: 44.75 MiB