Package: BaseSpaceR Version: 1.46.0 Command: /home/biocbuild/R/R-4.3.1/bin/R CMD check --install=check:BaseSpaceR.install-out.txt --library=/home/biocbuild/R/R-4.3.1/site-library --no-vignettes --timings BaseSpaceR_1.46.0.tar.gz StartedAt: 2023-11-02 08:30:50 -0000 (Thu, 02 Nov 2023) EndedAt: 2023-11-02 08:32:12 -0000 (Thu, 02 Nov 2023) EllapsedTime: 82.2 seconds RetCode: 0 Status: WARNINGS CheckDir: BaseSpaceR.Rcheck Warnings: 1