Package: BaseSpaceR Version: 1.46.0 Command: /home/biocbuild/bbs-3.18-bioc/R/bin/R CMD build --keep-empty-dirs --no-resave-data BaseSpaceR StartedAt: 2024-04-15 16:03:31 -0400 (Mon, 15 Apr 2024) EndedAt: 2024-04-15 16:03:49 -0400 (Mon, 15 Apr 2024) EllapsedTime: 17.9 seconds RetCode: 0 Status: OK PackageFile: BaseSpaceR_1.46.0.tar.gz PackageFileSize: 424.1 KiB