Package: BaseSpaceR Version: 1.46.0 Command: rm -rf BaseSpaceR.buildbin-libdir && mkdir BaseSpaceR.buildbin-libdir && F:\biocbuild\bbs-3.18-bioc\R\bin\R.exe CMD INSTALL --build --library=BaseSpaceR.buildbin-libdir BaseSpaceR_1.46.0.tar.gz StartedAt: 2024-04-16 06:40:19 -0400 (Tue, 16 Apr 2024) EndedAt: 2024-04-16 06:40:36 -0400 (Tue, 16 Apr 2024) EllapsedTime: 17.1 seconds RetCode: 0 Status: OK PackageFile: BaseSpaceR_1.46.0.zip PackageFileSize: 589.8 KiB