Package: BaseSpaceR Version: 1.46.0 Command: chmod a+r BaseSpaceR -R && F:\biocbuild\bbs-3.18-bioc\R\bin\R.exe CMD build --keep-empty-dirs --no-resave-data BaseSpaceR StartedAt: 2024-04-15 17:03:46 -0400 (Mon, 15 Apr 2024) EndedAt: 2024-04-15 17:04:16 -0400 (Mon, 15 Apr 2024) EllapsedTime: 30.5 seconds RetCode: 0 Status: OK PackageFile: BaseSpaceR_1.46.0.tar.gz PackageFileSize: 426.1 KiB