Package: BasicSTARRseq Version: 1.30.0 Command: /home/biocbuild/R/R-4.3.1/bin/R CMD check --install=check:BasicSTARRseq.install-out.txt --library=/home/biocbuild/R/R-4.3.1/site-library --no-vignettes --timings BasicSTARRseq_1.30.0.tar.gz StartedAt: 2023-11-02 08:32:12 -0000 (Thu, 02 Nov 2023) EndedAt: 2023-11-02 08:36:18 -0000 (Thu, 02 Nov 2023) EllapsedTime: 245.9 seconds RetCode: 0 Status: OK CheckDir: BasicSTARRseq.Rcheck Warnings: 0