Package: BasicSTARRseq Version: 1.30.0 Command: /Library/Frameworks/R.framework/Resources/bin/R CMD build --keep-empty-dirs --no-resave-data BasicSTARRseq StartedAt: 2024-04-15 17:01:38 -0400 (Mon, 15 Apr 2024) EndedAt: 2024-04-15 17:03:04 -0400 (Mon, 15 Apr 2024) EllapsedTime: 86.0 seconds RetCode: 0 Status: OK PackageFile: BasicSTARRseq_1.30.0.tar.gz PackageFileSize: 551.2 KiB