Package: BasicSTARRseq Version: 1.30.0 Command: rm -rf BasicSTARRseq.buildbin-libdir && mkdir BasicSTARRseq.buildbin-libdir && F:\biocbuild\bbs-3.18-bioc\R\bin\R.exe CMD INSTALL --build --library=BasicSTARRseq.buildbin-libdir BasicSTARRseq_1.30.0.tar.gz StartedAt: 2024-04-16 06:40:30 -0400 (Tue, 16 Apr 2024) EndedAt: 2024-04-16 06:41:05 -0400 (Tue, 16 Apr 2024) EllapsedTime: 35.0 seconds RetCode: 0 Status: OK PackageFile: BasicSTARRseq_1.30.0.zip PackageFileSize: 647.1 KiB