Package: BasicSTARRseq Version: 1.30.0 Command: chmod a+r BasicSTARRseq -R && F:\biocbuild\bbs-3.18-bioc\R\bin\R.exe CMD build --keep-empty-dirs --no-resave-data BasicSTARRseq StartedAt: 2024-04-15 17:04:06 -0400 (Mon, 15 Apr 2024) EndedAt: 2024-04-15 17:04:51 -0400 (Mon, 15 Apr 2024) EllapsedTime: 44.8 seconds RetCode: 0 Status: OK PackageFile: BasicSTARRseq_1.30.0.tar.gz PackageFileSize: 391.6 KiB