Package: BeadDataPackR Version: 1.54.0 Command: rm -rf BeadDataPackR.buildbin-libdir && mkdir BeadDataPackR.buildbin-libdir && /Users/biocbuild/BBS/utils/build-universal.sh BeadDataPackR_1.54.0.tar.gz /Library/Frameworks/R.framework/Resources/bin/R BeadDataPackR.buildbin-libdir StartedAt: 2024-03-04 00:30:14 -0500 (Mon, 04 Mar 2024) EndedAt: 2024-03-04 00:30:21 -0500 (Mon, 04 Mar 2024) EllapsedTime: 6.6 seconds RetCode: 0 Status: OK PackageFile: BeadDataPackR_1.54.0.tgz PackageFileSize: 283.9 KiB