Package: BgeeCall Version: 1.18.1 Command: /Library/Frameworks/R.framework/Resources/bin/R CMD check --install=check:BgeeCall.install-out.txt --library=/Library/Frameworks/R.framework/Resources/library --no-vignettes --timings BgeeCall_1.18.1.tar.gz StartedAt: 2024-03-03 19:08:45 -0500 (Sun, 03 Mar 2024) EndedAt: 2024-03-03 19:15:02 -0500 (Sun, 03 Mar 2024) EllapsedTime: 377.5 seconds RetCode: 0 Status: OK CheckDir: BgeeCall.Rcheck Warnings: 0