Package: BgeeCall Version: 1.18.1 Command: F:\biocbuild\bbs-3.18-bioc\R\bin\R.exe CMD INSTALL BgeeCall StartedAt: 2024-04-15 16:03:54 -0400 (Mon, 15 Apr 2024) EndedAt: 2024-04-15 16:04:47 -0400 (Mon, 15 Apr 2024) EllapsedTime: 52.8 seconds RetCode: 0 Status: OK