Package: BiSeq Version: 1.42.0 Command: /home/biocbuild/R/R-4.3.1/bin/R CMD build --keep-empty-dirs --no-resave-data BiSeq StartedAt: 2023-11-01 22:48:27 -0000 (Wed, 01 Nov 2023) EndedAt: 2023-11-01 22:50:57 -0000 (Wed, 01 Nov 2023) EllapsedTime: 150.2 seconds RetCode: 0 Status: OK PackageFile: BiSeq_1.42.0.tar.gz PackageFileSize: 909.1 KiB